BEGIN:VCALENDAR
VERSION:2.0
PRODID:-//Community Media of South Central PA - ECPv6.15.20//NONSGML v1.0//EN
CALSCALE:GREGORIAN
METHOD:PUBLISH
X-WR-CALNAME:Community Media of South Central PA
X-ORIGINAL-URL:https://www.communitymedia.net
X-WR-CALDESC:Events for Community Media of South Central PA
REFRESH-INTERVAL;VALUE=DURATION:PT1H
X-Robots-Tag:noindex
X-PUBLISHED-TTL:PT1H
BEGIN:VTIMEZONE
TZID:America/New_York
BEGIN:DAYLIGHT
TZOFFSETFROM:-0500
TZOFFSETTO:-0400
TZNAME:EDT
DTSTART:20250309T070000
END:DAYLIGHT
BEGIN:STANDARD
TZOFFSETFROM:-0400
TZOFFSETTO:-0500
TZNAME:EST
DTSTART:20251102T060000
END:STANDARD
BEGIN:DAYLIGHT
TZOFFSETFROM:-0500
TZOFFSETTO:-0400
TZNAME:EDT
DTSTART:20260308T070000
END:DAYLIGHT
BEGIN:STANDARD
TZOFFSETFROM:-0400
TZOFFSETTO:-0500
TZNAME:EST
DTSTART:20261101T060000
END:STANDARD
BEGIN:DAYLIGHT
TZOFFSETFROM:-0500
TZOFFSETTO:-0400
TZNAME:EDT
DTSTART:20270314T070000
END:DAYLIGHT
BEGIN:STANDARD
TZOFFSETFROM:-0400
TZOFFSETTO:-0500
TZNAME:EST
DTSTART:20271107T060000
END:STANDARD
END:VTIMEZONE
BEGIN:VEVENT
DTSTART;TZID=America/New_York:20260620T080000
DTEND;TZID=America/New_York:20260620T140000
DTSTAMP:20260421T104454
CREATED:20260420T170113Z
LAST-MODIFIED:20260420T170113Z
UID:10002093-1781942400-1781964000@www.communitymedia.net
SUMMARY:70th Annual Market on the Square
DESCRIPTION:Come out to New Oxford for the 70th Annual Market on the Square. This beloved annual event features a wide variety of vendors selling antiques\, vintage and collectible items\, handmade crafts\, artisan products\, farmers market goods\, food and much more! There’s something for everyone at this free\, family friendly event!\n\nThey are adding something special to the event for America 250! A one day scavenger hunt will take you on a walk in the New Oxford Borough to select businesses. At each listed location\, there will be a Liberty Bell with a secret letter. Decode the message for a chance to win a prize. Perfect for families\, friends\, and history lovers of all age. Come celebrate 250 years of America in a whole new way!
URL:https://www.communitymedia.net/event/70th-annual-market-on-the-square/
LOCATION:New Oxford Square\, Center Square\, New Oxford\, PA\, 17350\, United States
CATEGORIES:Community,Culture,People
ATTACH;FMTTYPE=image/jpeg:https://www.communitymedia.net/wp-content/uploads/2026/04/672679791_1345416640967222_6187867016473876529_n.jpg
GEO:39.8641789;-77.0556995
X-APPLE-STRUCTURED-LOCATION;VALUE=URI;X-ADDRESS=New Oxford Square Center Square New Oxford PA 17350 United States;X-APPLE-RADIUS=500;X-TITLE=Center Square:geo:-77.0556995,39.8641789
END:VEVENT
END:VCALENDAR