BEGIN:VCALENDAR
VERSION:2.0
PRODID:-//Community Media of South Central PA - ECPv6.15.20//NONSGML v1.0//EN
CALSCALE:GREGORIAN
METHOD:PUBLISH
X-ORIGINAL-URL:https://www.communitymedia.net
X-WR-CALDESC:Events for Community Media of South Central PA
REFRESH-INTERVAL;VALUE=DURATION:PT1H
X-Robots-Tag:noindex
X-PUBLISHED-TTL:PT1H
BEGIN:VTIMEZONE
TZID:America/New_York
BEGIN:DAYLIGHT
TZOFFSETFROM:-0500
TZOFFSETTO:-0400
TZNAME:EDT
DTSTART:20250309T070000
END:DAYLIGHT
BEGIN:STANDARD
TZOFFSETFROM:-0400
TZOFFSETTO:-0500
TZNAME:EST
DTSTART:20251102T060000
END:STANDARD
BEGIN:DAYLIGHT
TZOFFSETFROM:-0500
TZOFFSETTO:-0400
TZNAME:EDT
DTSTART:20260308T070000
END:DAYLIGHT
BEGIN:STANDARD
TZOFFSETFROM:-0400
TZOFFSETTO:-0500
TZNAME:EST
DTSTART:20261101T060000
END:STANDARD
BEGIN:DAYLIGHT
TZOFFSETFROM:-0500
TZOFFSETTO:-0400
TZNAME:EDT
DTSTART:20270314T070000
END:DAYLIGHT
BEGIN:STANDARD
TZOFFSETFROM:-0400
TZOFFSETTO:-0500
TZNAME:EST
DTSTART:20271107T060000
END:STANDARD
END:VTIMEZONE
BEGIN:VEVENT
DTSTART;TZID=America/New_York:20260613T100000
DTEND;TZID=America/New_York:20260613T150000
DTSTAMP:20260421T104453
CREATED:20260413T165725Z
LAST-MODIFIED:20260413T165725Z
UID:10002081-1781344800-1781362800@www.communitymedia.net
SUMMARY:Family Fun Fair and Cornhole Competition 2026
DESCRIPTION:Join Proffer Ministries for the Father’s Day Family Fun Fair and cornhole competition!\nThis event is completely free and seeks to provide a safe\, fun environment for families to enjoy and grow together. This year will be a celebration of father’s and the role they play in our community\, and will include prizes that both dad and the family can enjoy.\n\nFeatures of the event include :Free foodParent-child cornhole competitionRock climbing wallInflatablesFace paintingBalloon animalsPetting zooGamesPrizesCommunity partners and family resourcesEncouragement
URL:https://www.communitymedia.net/event/family-fun-fair-and-cornhole-competition-2026/
LOCATION:Moul Field\, 151-153 Moul Ave\, Hanover\, PA\, 17331\, United States
CATEGORIES:Community,Festival,Food,Free,People
ATTACH;FMTTYPE=image/jpeg:https://www.communitymedia.net/wp-content/uploads/2026/04/635414261_122163207488891141_5756020659252996288_n.jpg
END:VEVENT
END:VCALENDAR