BEGIN:VCALENDAR
VERSION:2.0
PRODID:-//Community Media of South Central PA - ECPv6.15.20//NONSGML v1.0//EN
CALSCALE:GREGORIAN
METHOD:PUBLISH
X-ORIGINAL-URL:https://www.communitymedia.net
X-WR-CALDESC:Events for Community Media of South Central PA
REFRESH-INTERVAL;VALUE=DURATION:PT1H
X-Robots-Tag:noindex
X-PUBLISHED-TTL:PT1H
BEGIN:VTIMEZONE
TZID:America/New_York
BEGIN:DAYLIGHT
TZOFFSETFROM:-0500
TZOFFSETTO:-0400
TZNAME:EDT
DTSTART:20250309T070000
END:DAYLIGHT
BEGIN:STANDARD
TZOFFSETFROM:-0400
TZOFFSETTO:-0500
TZNAME:EST
DTSTART:20251102T060000
END:STANDARD
BEGIN:DAYLIGHT
TZOFFSETFROM:-0500
TZOFFSETTO:-0400
TZNAME:EDT
DTSTART:20260308T070000
END:DAYLIGHT
BEGIN:STANDARD
TZOFFSETFROM:-0400
TZOFFSETTO:-0500
TZNAME:EST
DTSTART:20261101T060000
END:STANDARD
BEGIN:DAYLIGHT
TZOFFSETFROM:-0500
TZOFFSETTO:-0400
TZNAME:EDT
DTSTART:20270314T070000
END:DAYLIGHT
BEGIN:STANDARD
TZOFFSETFROM:-0400
TZOFFSETTO:-0500
TZNAME:EST
DTSTART:20271107T060000
END:STANDARD
END:VTIMEZONE
BEGIN:VEVENT
DTSTART;TZID=America/New_York:20260507T080000
DTEND;TZID=America/New_York:20260507T190000
DTSTAMP:20260422T122405
CREATED:20260417T200710Z
LAST-MODIFIED:20260417T200710Z
UID:10002091-1778140800-1778180400@www.communitymedia.net
SUMMARY:Raise Some Dough: Sparrow Place
DESCRIPTION:Hungry for some pizza? Why not eat and support a local non-profit!? \nMod Pizza in York is holding a “Raise Some Dough” fundraiser for Sparrow Place on May 7th. \nIf you bring the flyer or order online using the code: MODGIVES20\, Mod Pizza will donate 20% of your bill to support Sparrow Place.
URL:https://www.communitymedia.net/event/raise-some-dough-sparrow-place/
LOCATION:Mod Pizza York\, 114 Pauline Dr.\, York\, United States
CATEGORIES:Community,Food,Fundraiser
ATTACH;FMTTYPE=image/png:https://www.communitymedia.net/wp-content/uploads/2026/04/Screenshot-2026-04-17-155803.png
ORGANIZER;CN="Sparrow Place":MAILTO:info@sparrowplace.org
END:VEVENT
END:VCALENDAR