BEGIN:VCALENDAR
VERSION:2.0
PRODID:-//Community Media of South Central PA - ECPv6.15.20//NONSGML v1.0//EN
CALSCALE:GREGORIAN
METHOD:PUBLISH
X-WR-CALNAME:Community Media of South Central PA
X-ORIGINAL-URL:https://www.communitymedia.net
X-WR-CALDESC:Events for Community Media of South Central PA
REFRESH-INTERVAL;VALUE=DURATION:PT1H
X-Robots-Tag:noindex
X-PUBLISHED-TTL:PT1H
BEGIN:VTIMEZONE
TZID:America/New_York
BEGIN:DAYLIGHT
TZOFFSETFROM:-0500
TZOFFSETTO:-0400
TZNAME:EDT
DTSTART:20250309T070000
END:DAYLIGHT
BEGIN:STANDARD
TZOFFSETFROM:-0400
TZOFFSETTO:-0500
TZNAME:EST
DTSTART:20251102T060000
END:STANDARD
BEGIN:DAYLIGHT
TZOFFSETFROM:-0500
TZOFFSETTO:-0400
TZNAME:EDT
DTSTART:20260308T070000
END:DAYLIGHT
BEGIN:STANDARD
TZOFFSETFROM:-0400
TZOFFSETTO:-0500
TZNAME:EST
DTSTART:20261101T060000
END:STANDARD
BEGIN:DAYLIGHT
TZOFFSETFROM:-0500
TZOFFSETTO:-0400
TZNAME:EDT
DTSTART:20270314T070000
END:DAYLIGHT
BEGIN:STANDARD
TZOFFSETFROM:-0400
TZOFFSETTO:-0500
TZNAME:EST
DTSTART:20271107T060000
END:STANDARD
END:VTIMEZONE
BEGIN:VEVENT
DTSTART;TZID=America/New_York:20260224T173000
DTEND;TZID=America/New_York:20260224T193000
DTSTAMP:20260421T125245
CREATED:20260130T164912Z
LAST-MODIFIED:20260130T164912Z
UID:10001996-1771954200-1771961400@www.communitymedia.net
SUMMARY:Women's Networking Event 2026
DESCRIPTION:Join the New Oxford Chamber of Commerce for their first ever Women’s Networking Event! \nThis event was designed as a welcoming space to bring together women from diverse industries to encourage professional growth\, expand your network\, share ideas\, and increase community involvement. We are looking to connect\, inspire\, and empower women from all walks of life! \nFurs By Susan is also having a promotion during the event! If you bring 12 non-perishable food items to the Networking Event\, you will receive 40% off your purchase! *Excludes\, previous sales\, clearance\, and services* \nNot a Chamber Member yet? No worries\, all community members are welcome for this inaugural event for FREE! \n📅 Date: February 24\, 2026\n⏰ Time: 5:30 P.M. – 7:30 P.M.\n📍 Location: Furs By Susan – 1 Frederick Street – Hanover\, PA 17331
URL:https://www.communitymedia.net/event/womens-networking-event-2026/
LOCATION:Furs By Susan\, 1 Frederick Street\, Hanover\, 17331\, United States
CATEGORIES:Community,People
ATTACH;FMTTYPE=image/jpeg:https://www.communitymedia.net/wp-content/uploads/2026/01/scaled_1024.jpg
END:VEVENT
END:VCALENDAR